BEGIN:VCALENDAR
VERSION:2.0
PRODID:-//eventon.com NONSGML v1.0//EN
CALSCALE:GREGORIAN
METHOD:PUBLISH
BEGIN:VEVENT
UID:69e601abbb851
DTSTAMP:20260420T123627
DTSTART:20221030
DTEND:20221031
TZID:Europe/Paris
LOCATION:
SUMMARY:Castagnades
DESCRIPTION:Fête de la châtaigneSortie mycologiqueMarché de producteurs et d&rsquo;artisansAnimations diverses\nhttps://lesblesdor.fr/events/fete-de-la-chataigne/
URL:https://lesblesdor.fr/events/fete-de-la-chataigne/
END:VEVENT
END:VCALENDAR