BEGIN:VCALENDAR
VERSION:2.0
PRODID:-//eventon.com NONSGML v1.0//EN
CALSCALE:GREGORIAN
METHOD:PUBLISH
BEGIN:VEVENT
UID:69e9ef8b663da
DTSTAMP:20260423T120811
DTSTART:20230729T203000Z
DTEND:20230729T113000Z
TZID:Pacific/Midway
LOCATION:
SUMMARY:Ensemble Agamemnon
DESCRIPTION:SAMEDI 29 JUILLET- 20H30 ÉGLISE Baroque italien et allemandGuglielmo BUONSANTI &#8211; Basse Anaélle BLANC-VERDIN &#8211; Violon François CARDEY &#8211; Cornet et dir. artistique &lsquo;saure LAVERGNE &#8211; Doulciane Mathieu VAL FPÉ &#8211; Orgue Mattioli\,  Cazzati\,  Wolfenbiittel\,  KnUpfer\,  Fontana Fôrster\,  Scheidemann Entrée : 15€\,  gratuit pour les enfants de moins de 16[..]\nhttps://lesblesdor.fr/events/ensemble-agamemnon/
URL:https://lesblesdor.fr/events/ensemble-agamemnon/
END:VEVENT
END:VCALENDAR